BEGIN:VCALENDAR
VERSION:2.0
PRODID:icalendar-ruby
CALSCALE:GREGORIAN
METHOD:PUBLISH
BEGIN:VEVENT
DTSTAMP:20260420T154344Z
UID:fb9e80b5-e9ed-4a1c-8ced-f4d76d47f0c4
DTSTART:20200324T170000Z
DTEND:20200324T180000Z
DESCRIPTION:This webinar provides a unique take on domestic violence preven
 tion\, identification\, and intervention by enabling participants to devel
 op a multi-disciplinary perspective of violence in the home. 
ORGANIZER:aaron@justiceclearinghouse.com
SUMMARY:Developing a Multi-Disciplinary Perspective to DV
END:VEVENT
END:VCALENDAR
