BEGIN:VCALENDAR
VERSION:2.0
PRODID:icalendar-ruby
CALSCALE:GREGORIAN
METHOD:PUBLISH
BEGIN:VEVENT
DTSTAMP:20260423T013303Z
UID:a65ad531-4174-478a-a440-6bdfec8667d1
DTSTART:20241006T000000Z
DTEND:20241006T030000Z
DESCRIPTION:The Denim & Diamonds Gala is an inspiring event supporting dome
 stic violence awareness and benefiting Esther's Place\, a safe home for su
 rvivors. https://www.eventbrite.com/e/sparkle-with-purpose-denim-diamonds-
 gala-for-domestic-violence-awarenes-tickets-1009058389807?aff=oddtdtcreato
 r
ORGANIZER:support@theesthersplace.com
SUMMARY:Denim & Diamonds Gala
END:VEVENT
END:VCALENDAR
