BEGIN:VCALENDAR
VERSION:2.0
PRODID:icalendar-ruby
CALSCALE:GREGORIAN
METHOD:PUBLISH
BEGIN:VEVENT
DTSTAMP:20260425T174309Z
UID:716a1959-af7a-43a9-a712-d9f90db6feb0
DTSTART:20220604T190000Z
DTEND:20220604T220000Z
DESCRIPTION:A virtual conference addressing healthy relationships through t
 echnology to build confidence rooted in equity and wellness.\n\nLearn abou
 t:\n1. Healthy Relationships in the Digital Age\n2. Bystander Intervention
 \n3. Self Care\n4. Sexual Violence and Technology\n
ORGANIZER:agarcia@nextdoor.org
SUMMARY:Creating Change In A Digital World - Youth In Action
END:VEVENT
END:VCALENDAR
