BEGIN:VCALENDAR
VERSION:2.0
PRODID:icalendar-ruby
CALSCALE:GREGORIAN
METHOD:PUBLISH
BEGIN:VEVENT
DTSTAMP:20260424T010617Z
UID:b96e4296-bd7d-46f1-aeb9-189555e7632c
DTSTART:20250213T180000Z
DTEND:20250213T190000Z
DESCRIPTION:Join us for an overview of Alliance for HOPE International's Ca
 mp HOPE America program\, a framework for working with youth impacted by d
 omestic violence and abuse. Learn how this program is rooted in the scienc
 e of hope and works to break the cycle of violence. Consider strategies fo
 r establishing p
ORGANIZER:info@domesticshelters.org
SUMMARY:Camp HOPE America: A Trauma Informed Framework for Serving Youth Im
 pacted by Domestic Violence and Abuse
END:VEVENT
END:VCALENDAR
