BEGIN:VCALENDAR
VERSION:2.0
PRODID:icalendar-ruby
CALSCALE:GREGORIAN
METHOD:PUBLISH
BEGIN:VEVENT
DTSTAMP:20260419T143309Z
UID:2c5a189d-c6a9-4d0c-b663-f464b4cfdee4
DTSTART:20220322T160000Z
DTEND:20220322T170000Z
DESCRIPTION:This series is designed to provide judicial officers an opportu
 nity to obtain an overview of essential topics and awareness of resources 
 and technical assistance available for more in-depth information.
ORGANIZER:contactus@ncjfcj.org
SUMMARY:Break from the Bench: A Lunch and Learn Series
END:VEVENT
END:VCALENDAR
