BEGIN:VCALENDAR
VERSION:2.0
PRODID:icalendar-ruby
CALSCALE:GREGORIAN
METHOD:PUBLISH
BEGIN:VEVENT
DTSTAMP:20260422T200611Z
UID:8669508d-cba1-4b87-86b4-30ee5d65dec8
DTSTART:20231206T010000Z
DTEND:20231206T033000Z
DESCRIPTION:This is a condensed version of workshop for best-practices in s
 upporting the survivors of domestic violence and sexual assault in our own
  lives.
ORGANIZER:am.tsampikou@gmail.com
SUMMARY:Beyond 'The Heroic Survivor:' A Series in Supporting Survivors of D
 omestic Violence & Sexual Abuse 
END:VEVENT
END:VCALENDAR
