BEGIN:VCALENDAR
VERSION:2.0
PRODID:icalendar-ruby
CALSCALE:GREGORIAN
METHOD:PUBLISH
BEGIN:VEVENT
DTSTAMP:20260425T184146Z
UID:1f8b96d6-d7b2-4330-bd89-476878557f27
DTSTART:20241012T230000Z
DTEND:20241013T040000Z
DESCRIPTION:You should\, like\, totally join us as we celebrate 33 years of
  service\, pay tribute to our incredible staff\, and honor amazing communi
 ty members. October is Domestic Violence Awareness Month\, and we’ll nee
 d your help to continue providing essential recovery services to survivors
 .
ORGANIZER:eduran@bayareaturningpoint.org
SUMMARY:Bay Area Turning Point's Back to the 80s - Celebrating 32 Years
END:VEVENT
END:VCALENDAR
