BEGIN:VCALENDAR
VERSION:2.0
PRODID:icalendar-ruby
CALSCALE:GREGORIAN
METHOD:PUBLISH
BEGIN:VEVENT
DTSTAMP:20260419T232019Z
UID:074a0d4f-533e-48bb-bbe4-a57f6e853b9a
DTSTART:20241019T010000Z
DTEND:20241019T013000Z
DESCRIPTION:an annual event where we read the names of those who have lost 
 their lives due to domestic violence in our local area and others. We prov
 ide an evening to remember reflect and reconnect with those who are likemi
 nded in our plight against domestic violence.
ORGANIZER:agomez@abway.org
SUMMARY:Annual Candlelight Vigil
END:VEVENT
END:VCALENDAR
