BEGIN:VCALENDAR
VERSION:2.0
PRODID:icalendar-ruby
CALSCALE:GREGORIAN
METHOD:PUBLISH
BEGIN:VEVENT
DTSTAMP:20260426T032057Z
UID:d604d69d-0c78-447a-92e0-060d7fdec335
DTSTART:20231026T230000Z
DTEND:20231026T160000Z
DESCRIPTION:All Saints holds an annual candlelight vigil to remember & name
  MA victims who lost their lives that year to domestic violence\, to encou
 rage and support survivors who’ve yet escaped\, or are looking to escape
  their abuser\, and to honor those who support & assist survivors escaping
  the hell of DV. 
ORGANIZER:bethelight.asns@gmail.com
SUMMARY:Annual Candlelight Vigil 
END:VEVENT
END:VCALENDAR
