BEGIN:VCALENDAR
VERSION:2.0
PRODID:icalendar-ruby
CALSCALE:GREGORIAN
METHOD:PUBLISH
BEGIN:VEVENT
DTSTAMP:20260423T130835Z
UID:1dc214e1-3cb9-4626-8159-401013d2cf56
DTSTART:20231021T010000Z
DTEND:20231021T020000Z
DESCRIPTION:The Candlelight Vigil holds great significance for our organiza
 tion and our community. It serves as a moment of reflection\, unity\, and 
 remembrance\, allowing us to come together to honor and pay tribute to tho
 se who have lost their lives to acts of domestic violence.  
ORGANIZER:yroberts@abway.org
SUMMARY:Annual Candlelight Vigil 
END:VEVENT
END:VCALENDAR
