BEGIN:VCALENDAR
VERSION:2.0
PRODID:icalendar-ruby
CALSCALE:GREGORIAN
METHOD:PUBLISH
BEGIN:VEVENT
DTSTAMP:20260425T173037Z
UID:494b490f-2831-4a1c-a6d0-e48574926a63
DTSTART:20231010T233000Z
DTEND:20231011T010000Z
DESCRIPTION:On Tuesday\, October 10th at 6:30pm we will host our annual can
 dlelight vigil at Lyman P. White Park to honor the lives of those we have 
 lost to domestic violence in the past year.
ORGANIZER:community@relationshipsafety.org
SUMMARY:Annual Candlelight Vigil
END:VEVENT
END:VCALENDAR
