BEGIN:VCALENDAR
VERSION:2.0
PRODID:icalendar-ruby
CALSCALE:GREGORIAN
METHOD:PUBLISH
BEGIN:VEVENT
DTSTAMP:20260420T104628Z
UID:276e2fa9-84db-4578-ad84-379211c27771
DTSTART:20190603T140000Z
DTEND:20190603T220000Z
DESCRIPTION:A free 40-hour comprehensive basic level training designed for 
 victim service providers
ORGANIZER:info@domesticshelters.org
SUMMARY:2019 Tommy Burks Victim Assistance Academy
END:VEVENT
END:VCALENDAR
